Name | Last modified | Size | Description | |
---|---|---|---|---|
Parent Directory | - | |||
buildbin-summary.dcf | 17-Jul-2024 00:44 | 548 | ||
buildbin-out.txt | 17-Jul-2024 00:44 | 4.2K | ||
checksrc-out.txt | 17-Jul-2024 00:44 | 4.7K | ||
checksrc-summary.dcf | 17-Jul-2024 00:44 | 455 | ||
buildsrc-summary.dcf | 17-Jul-2024 00:44 | 436 | ||
buildsrc-out.txt | 17-Jul-2024 00:44 | 921 | ||
install-summary.dcf | 17-Jul-2024 00:44 | 275 | ||
install-out.txt | 17-Jul-2024 00:44 | 2.2K | ||