Name | Last modified | Size | Description | |
---|---|---|---|---|
Parent Directory | - | |||
install-summary.dcf | 12-Jun-2024 04:43 | 275 | ||
buildsrc-summary.dcf | 12-Jun-2024 04:43 | 436 | ||
checksrc-summary.dcf | 12-Jun-2024 04:43 | 456 | ||
buildbin-summary.dcf | 12-Jun-2024 04:43 | 548 | ||
buildsrc-out.txt | 12-Jun-2024 04:43 | 921 | ||
install-out.txt | 12-Jun-2024 04:43 | 2.2K | ||
buildbin-out.txt | 12-Jun-2024 04:43 | 4.2K | ||
checksrc-out.txt | 12-Jun-2024 04:43 | 4.7K | ||