Index of /checkResults/devel/bioc-LATEST/VaSP/raw-results

[ICO]NameLast modifiedSizeDescription

[DIR]Parent Directory  -  
[   ]info.dcf28-May-2023 00:07 259  
[DIR]lconway/28-May-2023 00:07 -  
[DIR]nebbiolo2/28-May-2023 00:05 -  
[DIR]palomino4/28-May-2023 00:06 -