Name | Last modified | Size | Description | |
---|---|---|---|---|
Parent Directory | - | |||
checksrc-out.txt | 09-Jul-2024 00:45 | 3.5K | ||
install-out.txt | 07-Jul-2024 00:45 | 929 | ||
buildsrc-out.txt | 09-Jul-2024 00:45 | 798 | ||
checksrc-summary.dcf | 09-Jul-2024 00:45 | 409 | ||
buildsrc-summary.dcf | 09-Jul-2024 00:45 | 409 | ||
install-summary.dcf | 07-Jul-2024 00:45 | 249 | ||