Back to Multiple platform build/check report for BioC 3.15
ABCDEFGHIJKLMNOPQRST[U]VWXYZ

This page was generated on 2022-01-21 11:08:51 -0500 (Fri, 21 Jan 2022).

HostnameOSArch (*)R versionInstalled pkgs
nebbiolo1Linux (Ubuntu 20.04.4 LTS)x86_64R Under development (unstable) (2022-01-05 r81451) -- "Unsuffered Consequences" 4163
riesling1Windows Server 2019 Standardx64R Under development (unstable) (2021-11-21 r81221) -- "Unsuffered Consequences" 4058
palomino3Windows Server 2022 Datacenterx64R Under development (unstable) (2021-12-21 r81400 ucrt) -- "Unsuffered Consequences" 4000
merida1macOS 10.14.6 Mojavex86_64R Under development (unstable) (2022-01-05 r81451) -- "Unsuffered Consequences" 4117
Click on any hostname to see more info about the system (e.g. compilers)      (*) as reported by 'uname -p', except on Windows and Mac OS X

BUILD BIN results for Uniquorn on riesling1


To the developers/maintainers of the Uniquorn package:
- Please allow up to 24 hours (and sometimes 48 hours) for your latest push to git@git.bioconductor.org:packages/Uniquorn.git to
reflect on this report. See How and When does the builder pull? When will my changes propagate? here for more information.
- Make sure to use the following settings in order to reproduce any error or warning you see on this page.

raw results

Package 2023/2075HostnameOS / ArchINSTALLBUILDCHECKBUILD BIN
Uniquorn 2.15.0  (landing page)
'Raik Otto'
Snapshot Date: 2022-01-20 13:55:17 -0500 (Thu, 20 Jan 2022)
git_url: https://git.bioconductor.org/packages/Uniquorn
git_branch: master
git_last_commit: 1d65261
git_last_commit_date: 2021-10-26 12:26:01 -0500 (Tue, 26 Oct 2021)
nebbiolo1Linux (Ubuntu 20.04.4 LTS) / x86_64  OK    OK    WARNINGS  UNNEEDED, same version is already published
riesling1Windows Server 2019 Standard / x64  OK    OK    WARNINGS    OK  
palomino3Windows Server 2022 Datacenter / x64  OK    OK    WARNINGS    OK  NO, package depends on 'GenomicRanges' which is not available
merida1macOS 10.14.6 Mojave / x86_64  OK    OK    WARNINGS    OK  UNNEEDED, same version is already published

Summary

Package: Uniquorn
Version: 2.15.0
Command: rm -rf Uniquorn.buildbin-libdir && mkdir Uniquorn.buildbin-libdir && D:\biocbuild\bbs-3.15-bioc\R\bin\R.exe CMD INSTALL --build --library=Uniquorn.buildbin-libdir Uniquorn_2.15.0.tar.gz
StartedAt: 2022-01-20 21:24:50 -0500 (Thu, 20 Jan 2022)
EndedAt: 2022-01-20 21:25:56 -0500 (Thu, 20 Jan 2022)
EllapsedTime: 65.7 seconds
RetCode: 0
Status:   OK  
PackageFile: Uniquorn_2.15.0.zip
PackageFileSize: 2.299 MiB

Command output

##############################################################################
##############################################################################
###
### Running command:
###
###   rm -rf Uniquorn.buildbin-libdir && mkdir Uniquorn.buildbin-libdir && D:\biocbuild\bbs-3.15-bioc\R\bin\R.exe CMD INSTALL --build --library=Uniquorn.buildbin-libdir Uniquorn_2.15.0.tar.gz
###
##############################################################################
##############################################################################


* installing *source* package 'Uniquorn' ...
** using staged installation
** R
** inst
** byte-compile and prepare package for lazy loading
** help
*** installing help indices
  converting help for package 'Uniquorn'
    finding HTML links ... done
    add_custom_vcf_to_database              html  
    add_missing_cls                         html  
    add_p_q_values_statistics               html  
    add_penalty_statistics                  html  
    create_bed_file                         html  
    identify_vcf_file                       html  
    init_and_load_identification            html  
    initiate_canonical_databases            html  
    match_query_ccl_to_database             html  
    parse_ccle_genotype_data                html  
    parse_cosmic_genotype_data              html  
    parse_vcf_file                          html  
    parse_vcf_query_into_db                 html  
    read_library_names                      html  
    read_mutation_grange_objects            html  
    remove_ccls_from_database               html  
    remove_library_from_database            html  
    show_contained_ccls                     html  
    show_contained_variants_for_ccl         html  
    show_contained_variants_in_library      html  
    show_which_ccls_contain_variant         html  
** building package indices
** installing vignettes
** testing if installed package can be loaded from temporary location
** testing if installed package can be loaded from final location
** testing if installed package keeps a record of temporary installation path
* MD5 sums
packaged installation of 'Uniquorn' as Uniquorn_2.15.0.zip
* DONE (Uniquorn)