Index of /checkResults/devel/bioc-LATEST/Uniquorn/raw-results

[ICO]NameLast modifiedSizeDescription

[DIR]Parent Directory  -  
[   ]info.dcf21-May-2022 00:08 268  
[DIR]lconway/21-May-2022 00:08 -  
[DIR]nebbiolo2/21-May-2022 00:06 -  
[DIR]palomino4/21-May-2022 00:07 -