![]() | Name | Last modified | Size | Description |
---|---|---|---|---|
![]() | Parent Directory | - | ||
![]() | buildsrc-out.txt | 02-Apr-2023 00:05 | 818 | |
![]() | buildsrc-summary.dcf | 02-Apr-2023 00:05 | 426 | |
![]() | checksrc-out.txt | 02-Apr-2023 00:05 | 3.4K | |
![]() | checksrc-summary.dcf | 02-Apr-2023 00:05 | 426 | |
![]() | install-out.txt | 02-Apr-2023 00:05 | 961 | |
![]() | install-summary.dcf | 02-Apr-2023 00:05 | 265 | |