![]() | Name | Last modified | Size | Description |
---|---|---|---|---|
![]() | Parent Directory | - | ||
![]() | install-summary.dcf | 10-Dec-2023 02:25 | 274 | |
![]() | buildsrc-summary.dcf | 10-Dec-2023 02:25 | 433 | |
![]() | checksrc-summary.dcf | 10-Dec-2023 02:25 | 459 | |
![]() | buildsrc-out.txt | 10-Dec-2023 02:25 | 827 | |
![]() | install-out.txt | 10-Dec-2023 02:25 | 1.0K | |
![]() | checksrc-out.txt | 10-Dec-2023 02:25 | 3.4K | |