Index of /checkResults/devel/bioc-LATEST/UMI4Cats/raw-results/palomino8
Name
Last modified
Size
Description
Parent Directory
-
install-out.txt
17-Jul-2024 00:46
622
install-summary.dcf
17-Jul-2024 00:46
272
buildsrc-out.txt
17-Jul-2024 00:46
933
buildsrc-summary.dcf
17-Jul-2024 00:46
370