Index of /checkResults/devel/bioc-LATEST/UMI4Cats/raw-results/palomino6
Name
Last modified
Size
Description
Parent Directory
-
buildsrc-out.txt
17-Jul-2024 00:41
945
buildsrc-summary.dcf
17-Jul-2024 00:41
376
install-out.txt
17-Jul-2024 00:41
640
install-summary.dcf
17-Jul-2024 00:41
278