Index of /checkResults/devel/bioc-LATEST/UMI4Cats/raw-results/palomino4
Name
Last modified
Size
Description
Parent Directory
-
buildsrc-out.txt
12-Jun-2024 04:41
933
buildsrc-summary.dcf
12-Jun-2024 04:41
370
install-out.txt
12-Jun-2024 04:41
622
install-summary.dcf
12-Jun-2024 04:41
272