Name | Last modified | Size | Description | |
---|---|---|---|---|
Parent Directory | - | |||
buildbin-out.txt | 17-Apr-2024 00:38 | 1.1K | ||
buildbin-summary.dcf | 17-Apr-2024 00:38 | 521 | ||
buildsrc-out.txt | 30-Apr-2024 00:39 | 933 | ||
buildsrc-summary.dcf | 30-Apr-2024 00:39 | 370 | ||
checksrc-out.txt | 17-Apr-2024 00:38 | 3.5K | ||
checksrc-summary.dcf | 17-Apr-2024 00:38 | 451 | ||
install-out.txt | 30-Apr-2024 00:39 | 622 | ||
install-summary.dcf | 30-Apr-2024 00:39 | 272 | ||