Index of /checkResults/devel/bioc-LATEST/TypeInfo/raw-results/palomino4

[ICO]NameLast modifiedSizeDescription

[DIR]Parent Directory  -  
[TXT]buildsrc-out.txt05-Oct-2023 00:38 2.0K 
[   ]buildsrc-summary.dcf05-Oct-2023 00:38 371  
[TXT]install-out.txt05-Oct-2023 00:38 956  
[   ]install-summary.dcf05-Oct-2023 00:38 270