Index of /checkResults/devel/bioc-LATEST/TypeInfo/raw-results/palomino3
Name
Last modified
Size
Description
Parent Directory
-
buildsrc-out.txt
29-Mar-2024 00:38
2.0K
buildsrc-summary.dcf
29-Mar-2024 00:38
371
install-out.txt
29-Mar-2024 00:38
956
install-summary.dcf
29-Mar-2024 00:38
270