![]() | Name | Last modified | Size | Description |
---|---|---|---|---|
![]() | Parent Directory | - | ||
![]() | buildsrc-out.txt | 30-Sep-2023 01:03 | 810 | |
![]() | buildsrc-summary.dcf | 30-Sep-2023 01:03 | 419 | |
![]() | checksrc-out.txt | 30-Sep-2023 01:03 | 3.4K | |
![]() | checksrc-summary.dcf | 30-Sep-2023 01:03 | 417 | |
![]() | install-out.txt | 30-Sep-2023 01:03 | 947 | |
![]() | install-summary.dcf | 30-Sep-2023 01:03 | 261 | |