![]() | Name | Last modified | Size | Description |
---|---|---|---|---|
![]() | Parent Directory | - | ||
![]() | buildbin-out.txt | 05-Oct-2023 00:40 | 1.2K | |
![]() | buildbin-summary.dcf | 05-Oct-2023 00:40 | 535 | |
![]() | buildsrc-out.txt | 05-Oct-2023 00:40 | 820 | |
![]() | buildsrc-summary.dcf | 05-Oct-2023 00:40 | 430 | |
![]() | checksrc-out.txt | 05-Oct-2023 00:40 | 3.4K | |
![]() | checksrc-summary.dcf | 05-Oct-2023 00:40 | 447 | |
![]() | install-out.txt | 05-Oct-2023 00:40 | 1.0K | |
![]() | install-summary.dcf | 05-Oct-2023 00:40 | 271 | |