Back to Multiple platform build/check report for BioC 3.15
ABCDEFGHIJKLMNOPQRS[T]UVWXYZ

This page was generated on 2022-01-21 11:08:49 -0500 (Fri, 21 Jan 2022).

HostnameOSArch (*)R versionInstalled pkgs
nebbiolo1Linux (Ubuntu 20.04.4 LTS)x86_64R Under development (unstable) (2022-01-05 r81451) -- "Unsuffered Consequences" 4163
riesling1Windows Server 2019 Standardx64R Under development (unstable) (2021-11-21 r81221) -- "Unsuffered Consequences" 4058
palomino3Windows Server 2022 Datacenterx64R Under development (unstable) (2021-12-21 r81400 ucrt) -- "Unsuffered Consequences" 4000
merida1macOS 10.14.6 Mojavex86_64R Under development (unstable) (2022-01-05 r81451) -- "Unsuffered Consequences" 4117
Click on any hostname to see more info about the system (e.g. compilers)      (*) as reported by 'uname -p', except on Windows and Mac OS X

CHECK results for TransView on riesling1


To the developers/maintainers of the TransView package:
- Please allow up to 24 hours (and sometimes 48 hours) for your latest push to git@git.bioconductor.org:packages/TransView.git to
reflect on this report. See How and When does the builder pull? When will my changes propagate? here for more information.
- Make sure to use the following settings in order to reproduce any error or warning you see on this page.

raw results

Package 1981/2075HostnameOS / ArchINSTALLBUILDCHECKBUILD BIN
TransView 1.39.0  (landing page)
Julius Muller
Snapshot Date: 2022-01-20 13:55:17 -0500 (Thu, 20 Jan 2022)
git_url: https://git.bioconductor.org/packages/TransView
git_branch: master
git_last_commit: 75274a3
git_last_commit_date: 2021-10-26 12:05:10 -0500 (Tue, 26 Oct 2021)
nebbiolo1Linux (Ubuntu 20.04.4 LTS) / x86_64  OK    OK    OK  UNNEEDED, same version is already published
riesling1Windows Server 2019 Standard / x64  OK    OK    OK    OK  
palomino3Windows Server 2022 Datacenter / x64  OK    OK    OK    OK  NO, package depends on 'GenomicRanges' which is not available
merida1macOS 10.14.6 Mojave / x86_64  OK    OK    OK    OK  UNNEEDED, same version is already published

Summary

Package: TransView
Version: 1.39.0
Command: D:\biocbuild\bbs-3.15-bioc\R\bin\R.exe CMD check --no-multiarch --install=check:TransView.install-out.txt --library=D:\biocbuild\bbs-3.15-bioc\R\library --no-vignettes --timings TransView_1.39.0.tar.gz
StartedAt: 2022-01-20 20:19:04 -0500 (Thu, 20 Jan 2022)
EndedAt: 2022-01-20 20:20:44 -0500 (Thu, 20 Jan 2022)
EllapsedTime: 100.5 seconds
RetCode: 0
Status:   OK  
CheckDir: TransView.Rcheck
Warnings: 0

Command output

##############################################################################
##############################################################################
###
### Running command:
###
###   D:\biocbuild\bbs-3.15-bioc\R\bin\R.exe CMD check --no-multiarch --install=check:TransView.install-out.txt --library=D:\biocbuild\bbs-3.15-bioc\R\library --no-vignettes --timings TransView_1.39.0.tar.gz
###
##############################################################################
##############################################################################


* using log directory 'D:/biocbuild/bbs-3.15-bioc/meat/TransView.Rcheck'
* using R Under development (unstable) (2021-11-21 r81221)
* using platform: x86_64-w64-mingw32 (64-bit)
* using session charset: ISO8859-1
* using option '--no-vignettes'
* checking for file 'TransView/DESCRIPTION' ... OK
* checking extension type ... Package
* this is package 'TransView' version '1.39.0'
* checking package namespace information ... OK
* checking package dependencies ... OK
* checking if this is a source package ... OK
* checking if there is a namespace ... OK
* checking for hidden files and directories ... OK
* checking for portable file names ... OK
* checking whether package 'TransView' can be installed ... OK
* checking installed package size ... OK
* checking package directory ... OK
* checking 'build' directory ... OK
* checking DESCRIPTION meta-information ... NOTE
Versioned 'LinkingTo' value for 'Rhtslib' is only usable in R >= 3.0.2
* checking top-level files ... OK
* checking for left-over files ... OK
* checking index information ... OK
* checking package subdirectories ... OK
* checking R files for non-ASCII characters ... OK
* checking R files for syntax errors ... OK
* checking whether the package can be loaded ... OK
* checking whether the package can be loaded with stated dependencies ... OK
* checking whether the package can be unloaded cleanly ... OK
* checking whether the namespace can be loaded with stated dependencies ... OK
* checking whether the namespace can be unloaded cleanly ... OK
* checking dependencies in R code ... NOTE
'library' or 'require' call to 'RUnit' in package code.
  Please use :: or requireNamespace() instead.
  See section 'Suggested packages' in the 'Writing R Extensions' manual.
* checking S3 generic/method consistency ... OK
* checking replacement functions ... OK
* checking foreign function calls ... OK
* checking R code for possible problems ... NOTE
.gene2window : <anonymous> : <anonymous>: no visible global function
  definition for 'median'
.gene2window: no visible binding for global variable 'approx'
.onAttach: no visible global function definition for
  'packageDescription'
.test: no visible global function definition for 'defineTestSuite'
.test: no visible global function definition for 'runTestSuite'
.test: no visible global function definition for 'printTextProtocol'
annotatePeaks : <anonymous>: no visible global function definition for
  'median'
gtf2gr: no visible global function definition for 'read.table'
gtf2gr: no visible global function definition for 'ave'
macs2gr: no visible global function definition for 'read.delim'
meltPeak: no visible global function definition for 'approx'
meltPeak: no visible global function definition for 'lowess'
plotTV: no visible global function definition for 'quantile'
plotTV: no visible global function definition for 'kmeans'
plotTV: no visible global function definition for 'as.dendrogram'
plotTV: no visible global function definition for 'hclust'
plotTV: no visible global function definition for 'as.dist'
plotTV: no visible global function definition for 'dist'
plotTV: no visible global function definition for 'order.dendrogram'
plotTV: no visible global function definition for 'par'
plotTV: no visible global function definition for 'layout'
plotTV: no visible global function definition for 'image'
plotTV: no visible global function definition for 'hist'
plotTV: no visible global function definition for 'title'
plotTV: no visible global function definition for 'mtext'
plotTV: no visible global function definition for 'lines'
plotTV: no visible global function definition for 'axis'
plotTV: no visible global function definition for 'rainbow'
plotTV: no visible global function definition for 'text'
plotTV: no visible global function definition for 'rgb'
plotTV: no visible global function definition for 'plot.new'
setTV: no visible global function definition for 'object.size'
.setTV,DensityContainer-character-character-numeric-numeric-numeric-logical-character-character-logical:
  no visible global function definition for 'object.size'
Undefined global functions or variables:
  approx as.dendrogram as.dist ave axis defineTestSuite dist hclust
  hist image kmeans layout lines lowess median mtext object.size
  order.dendrogram packageDescription par plot.new printTextProtocol
  quantile rainbow read.delim read.table rgb runTestSuite text title
Consider adding
  importFrom("grDevices", "rainbow", "rgb")
  importFrom("graphics", "axis", "hist", "image", "layout", "lines",
             "mtext", "par", "plot.new", "text", "title")
  importFrom("stats", "approx", "as.dendrogram", "as.dist", "ave",
             "dist", "hclust", "kmeans", "lowess", "median",
             "order.dendrogram", "quantile")
  importFrom("utils", "object.size", "packageDescription", "read.delim",
             "read.table")
to your NAMESPACE file.
* checking Rd files ... OK
* checking Rd metadata ... OK
* checking Rd cross-references ... OK
* checking for missing documentation entries ... OK
* checking for code/documentation mismatches ... OK
* checking Rd \usage sections ... OK
* checking Rd contents ... OK
* checking for unstated dependencies in examples ... OK
* checking line endings in C/C++/Fortran sources/headers ... OK
* checking line endings in Makefiles ... OK
* checking compilation flags in Makevars ... OK
* checking for GNU extensions in Makefiles ... NOTE
GNU make is a SystemRequirements.
* checking for portable use of $(BLAS_LIBS) and $(LAPACK_LIBS) ... OK
* checking use of PKG_*FLAGS in Makefiles ... OK
* checking compiled code ... NOTE
Note: information on .o files for x64 is not available
File 'D:/biocbuild/bbs-3.15-bioc/R/library/TransView/libs/x64/TransView.dll':
  Found '_exit', possibly from '_exit' (C)
  Found 'abort', possibly from 'abort' (C), 'runtime' (Fortran)
  Found 'exit', possibly from 'exit' (C), 'stop' (Fortran)
  Found 'printf', possibly from 'printf' (C)
  Found 'putchar', possibly from 'putchar' (C)
  Found 'puts', possibly from 'printf' (C), 'puts' (C)
  Found 'rand', possibly from 'rand' (C)

Compiled code should not call entry points which might terminate R nor
write to stdout/stderr instead of to the console, nor use Fortran I/O
nor system RNGs. The detected symbols are linked into the code but
might come from libraries and not actually be called.

See 'Writing portable packages' in the 'Writing R Extensions' manual.
* checking files in 'vignettes' ... OK
* checking examples ... OK
* checking for unstated dependencies in 'tests' ... OK
* checking tests ...
  Running 'TransView_unit_tests.R'
 OK
* checking for unstated dependencies in vignettes ... OK
* checking package vignettes in 'inst/doc' ... OK
* checking running R code from vignettes ... SKIPPED
* checking re-building of vignette outputs ... SKIPPED
* checking PDF version of manual ... OK
* DONE

Status: 5 NOTEs
See
  'D:/biocbuild/bbs-3.15-bioc/meat/TransView.Rcheck/00check.log'
for details.



Installation output

TransView.Rcheck/00install.out

##############################################################################
##############################################################################
###
### Running command:
###
###   D:\biocbuild\bbs-3.15-bioc\R\bin\R.exe CMD INSTALL TransView
###
##############################################################################
##############################################################################


* installing to library 'D:/biocbuild/bbs-3.15-bioc/R/library'
* installing *source* package 'TransView' ...
** using staged installation
** libs
"C:/rtools40/mingw64/bin/"gcc  -I"D:/biocbuild/bbs-3.15-bioc/R/include" -DNDEBUG -D_FILE_OFFSET_BITS=64 -I'D:/biocbuild/bbs-3.15-bioc/R/library/Rhtslib/include'   -I"C:/extsoft/include"     -O2 -Wall  -std=gnu99 -mfpmath=sse -msse2 -mstackrealign -fno-reorder-blocks-and-partition  -c R_init_TransView.c -o R_init_TransView.o
"C:/rtools40/mingw64/bin/"gcc  -I"D:/biocbuild/bbs-3.15-bioc/R/include" -DNDEBUG -D_FILE_OFFSET_BITS=64 -I'D:/biocbuild/bbs-3.15-bioc/R/library/Rhtslib/include'   -I"C:/extsoft/include"     -O2 -Wall  -std=gnu99 -mfpmath=sse -msse2 -mstackrealign -fno-reorder-blocks-and-partition  -c bam_plbuf.c -o bam_plbuf.o
"C:/rtools40/mingw64/bin/"gcc  -I"D:/biocbuild/bbs-3.15-bioc/R/include" -DNDEBUG -D_FILE_OFFSET_BITS=64 -I'D:/biocbuild/bbs-3.15-bioc/R/library/Rhtslib/include'   -I"C:/extsoft/include"     -O2 -Wall  -std=gnu99 -mfpmath=sse -msse2 -mstackrealign -fno-reorder-blocks-and-partition  -c bin_density.c -o bin_density.o
"C:/rtools40/mingw64/bin/"gcc  -I"D:/biocbuild/bbs-3.15-bioc/R/include" -DNDEBUG -D_FILE_OFFSET_BITS=64 -I'D:/biocbuild/bbs-3.15-bioc/R/library/Rhtslib/include'   -I"C:/extsoft/include"     -O2 -Wall  -std=gnu99 -mfpmath=sse -msse2 -mstackrealign -fno-reorder-blocks-and-partition  -c construct_dc.c -o construct_dc.o
In file included from D:/biocbuild/bbs-3.15-bioc/R/library/Rhtslib/include/htslib/hts.h:35,
                 from D:/biocbuild/bbs-3.15-bioc/R/library/Rhtslib/include/htslib/sam.h:31,
                 from D:/biocbuild/bbs-3.15-bioc/R/library/Rhtslib/include/sam.h:28,
                 from parse_sam.h:4,
                 from construct_dc.c:23:
D:/biocbuild/bbs-3.15-bioc/R/library/Rhtslib/include/htslib/hts_log.h:72:1: warning: 'Rprintf' is an unrecognized format function type [-Wformat=]
 HTS_FORMAT(printf, 3, 4);
 ^~~~~~~~~~
"C:/rtools40/mingw64/bin/"gcc  -I"D:/biocbuild/bbs-3.15-bioc/R/include" -DNDEBUG -D_FILE_OFFSET_BITS=64 -I'D:/biocbuild/bbs-3.15-bioc/R/library/Rhtslib/include'   -I"C:/extsoft/include"     -O2 -Wall  -std=gnu99 -mfpmath=sse -msse2 -mstackrealign -fno-reorder-blocks-and-partition  -c parse_sam.c -o parse_sam.o
"C:/rtools40/mingw64/bin/"gcc  -I"D:/biocbuild/bbs-3.15-bioc/R/include" -DNDEBUG -D_FILE_OFFSET_BITS=64 -I'D:/biocbuild/bbs-3.15-bioc/R/library/Rhtslib/include'   -I"C:/extsoft/include"     -O2 -Wall  -std=gnu99 -mfpmath=sse -msse2 -mstackrealign -fno-reorder-blocks-and-partition  -c sam.c -o sam.o
"C:/rtools40/mingw64/bin/"gcc  -I"D:/biocbuild/bbs-3.15-bioc/R/include" -DNDEBUG -D_FILE_OFFSET_BITS=64 -I'D:/biocbuild/bbs-3.15-bioc/R/library/Rhtslib/include'   -I"C:/extsoft/include"     -O2 -Wall  -std=gnu99 -mfpmath=sse -msse2 -mstackrealign -fno-reorder-blocks-and-partition  -c slice_dc.c -o slice_dc.o
slice_dc.c: In function 'slice_dc':
slice_dc.c:184:5: warning: 'slicep' may be used uninitialized in this function [-Wmaybe-uninitialized]
     expand(slicep,new_vecp,rebuildc,wsize);
     ^~~~~~~~~~~~~~~~~~~~~~~~~~~~~~~~~~~~~~
"C:/rtools40/mingw64/bin/"gcc  -I"D:/biocbuild/bbs-3.15-bioc/R/include" -DNDEBUG -D_FILE_OFFSET_BITS=64 -I'D:/biocbuild/bbs-3.15-bioc/R/library/Rhtslib/include'   -I"C:/extsoft/include"     -O2 -Wall  -std=gnu99 -mfpmath=sse -msse2 -mstackrealign -fno-reorder-blocks-and-partition  -c visuals.c -o visuals.o
C:/rtools40/mingw64/bin/gcc -shared -s -static-libgcc -o TransView.dll tmp.def R_init_TransView.o bam_plbuf.o bin_density.o construct_dc.o parse_sam.o sam.o slice_dc.o visuals.o D:/biocbuild/bbs-3.15-bioc/R/library/Rhtslib/usrlib/x64/libhts.a -LC:/extsoft/lib/x64 -lcurl -lrtmp -lssl -lssh2 -lcrypto -lgdi32 -lz -lws2_32 -lwldap32 -lwinmm -LC:/extsoft/lib/x64 -LC:/extsoft/lib -LD:/biocbuild/bbs-3.15-bioc/R/bin/x64 -lR
installing to D:/biocbuild/bbs-3.15-bioc/R/library/00LOCK-TransView/00new/TransView/libs/x64
** R
** inst
** byte-compile and prepare package for lazy loading
** help
*** installing help indices
  converting help for package 'TransView'
    finding HTML links ... done
    DensityContainer-class                  html  
    TVResults-class                         html  
    TransView-package                       html  
    annotatePeaks                           html  
    finding level-2 HTML links ... done

    gtf2gr                                  html  
    histogram-methods                       html  
    macs2gr                                 html  
    meltPeak                                html  
    parseReads                              html  
    peak2tss                                html  
    plotTV                                  html  
    plotTVData                              html  
    rmTV                                    html  
    slice1                                  html  
    slice1T                                 html  
    tvStats-methods                         html  
** building package indices
** installing vignettes
** testing if installed package can be loaded from temporary location
** testing if installed package can be loaded from final location
** testing if installed package keeps a record of temporary installation path
* DONE (TransView)
Making 'packages.html' ...Warning in packageDescription(i, lib.loc = lib, fields = "Title", encoding = "UTF-8") :
  DESCRIPTION file of package 'muscle' is missing or broken
 done

Tests output

TransView.Rcheck/tests/TransView_unit_tests.Rout


R Under development (unstable) (2021-11-21 r81221) -- "Unsuffered Consequences"
Copyright (C) 2021 The R Foundation for Statistical Computing
Platform: x86_64-w64-mingw32/x64 (64-bit)

R is free software and comes with ABSOLUTELY NO WARRANTY.
You are welcome to redistribute it under certain conditions.
Type 'license()' or 'licence()' for distribution details.

R is a collaborative project with many contributors.
Type 'contributors()' for more information and
'citation()' on how to cite R or R packages in publications.

Type 'demo()' for some demos, 'help()' for on-line help, or
'help.start()' for an HTML browser interface to help.
Type 'q()' to quit R.

> 
> 
> require("TransView") || stop("unable to load TransView package")
Loading required package: TransView
Loading required package: GenomicRanges
Loading required package: stats4
Loading required package: BiocGenerics

Attaching package: 'BiocGenerics'

The following objects are masked from 'package:stats':

    IQR, mad, sd, var, xtabs

The following objects are masked from 'package:base':

    Filter, Find, Map, Position, Reduce, anyDuplicated, append,
    as.data.frame, basename, cbind, colnames, dirname, do.call,
    duplicated, eval, evalq, get, grep, grepl, intersect, is.unsorted,
    lapply, mapply, match, mget, order, paste, pmax, pmax.int, pmin,
    pmin.int, rank, rbind, rownames, sapply, setdiff, sort, table,
    tapply, union, unique, unsplit, which.max, which.min

Loading required package: S4Vectors

Attaching package: 'S4Vectors'

The following objects are masked from 'package:base':

    I, expand.grid, unname

Loading required package: IRanges

Attaching package: 'IRanges'

The following object is masked from 'package:grDevices':

    windows

Loading required package: GenomeInfoDb
Welcome to TransView version 1.39.0

Attaching package: 'TransView'

The following object is masked from 'package:GenomicRanges':

    pos

The following object is masked from 'package:IRanges':

    pos

The following object is masked from 'package:BiocGenerics':

    pos

[1] TRUE
> TransView:::.test()
Version 2.09+ detected
21 peaks matching
172 rows matching
2862 rows matching
Successful annotation within -10kBps to 10kBps: 21, NA peaks without hit
Successful annotation within -5kBps to 2kBps: NA, 21 peaks without hit
Successful annotation within -5kBps to 2kBps: 10, 11 peaks without hit
Successful annotation within -10kBps to 10kBps: 21, NA peaks without hit


RUNIT TEST PROTOCOL -- Thu Jan 20 20:20:31 2022 
*********************************************** 
Number of test functions: 9 
Number of errors: 0 
Number of failures: 0 

 
1 Test Suite : 
TransView RUnit Tests - 9 test functions, 0 errors, 0 failures
Number of test functions: 9 
Number of errors: 0 
Number of failures: 0 
> 
> proc.time()
   user  system elapsed 
   6.00    0.59    6.56 

Example timings

TransView.Rcheck/TransView-Ex.timings

nameusersystemelapsed
DensityContainer-class000
TVResults-class000
TransView-package000
annotatePeaks2.030.102.14
gtf2gr0.050.000.04
macs2gr0.030.000.04
meltPeak0.830.110.93
parseReads0.010.070.08
peak2tss0.780.000.78
plotTV0.100.120.22
plotTVData0.060.130.19
rmTV0.250.030.28
slice10.030.120.16
slice1T0.500.030.53