Index of /checkResults/devel/bioc-LATEST/TransView/raw-results/kunpeng2
Name
Last modified
Size
Description
Parent Directory
-
buildsrc-out.txt
16-May-2024 02:46
855
buildsrc-summary.dcf
16-May-2024 02:46
434
install-out.txt
16-May-2024 02:46
8.2K
install-summary.dcf
16-May-2024 02:46
274