Name | Last modified | Size | Description | |
---|---|---|---|---|
Parent Directory | - | |||
install-summary.dcf | 27-Jun-2024 00:39 | 272 | ||
buildsrc-summary.dcf | 27-Jun-2024 00:39 | 433 | ||
checksrc-summary.dcf | 27-Jun-2024 00:39 | 457 | ||
buildbin-summary.dcf | 27-Jun-2024 00:39 | 541 | ||
buildsrc-out.txt | 27-Jun-2024 00:39 | 854 | ||
install-out.txt | 27-Jun-2024 00:39 | 7.1K | ||
checksrc-out.txt | 27-Jun-2024 00:39 | 8.8K | ||
buildbin-out.txt | 27-Jun-2024 00:39 | 9.5K | ||