Name | Last modified | Size | Description | |
---|---|---|---|---|
Parent Directory | - | |||
install-out.txt | 01-Jun-2024 08:29 | 5.9K | ||
install-summary.dcf | 01-Jun-2024 08:29 | 261 | ||
buildsrc-out.txt | 01-Jun-2024 08:29 | 1.0K | ||
buildsrc-summary.dcf | 01-Jun-2024 08:29 | 426 | ||
checksrc-summary.dcf | 01-Jun-2024 08:29 | 424 | ||
checksrc-out.txt | 01-Jun-2024 08:29 | 24K | ||