Index of /checkResults/devel/bioc-LATEST/TitanCNA/raw-results/nebbiolo2

[ICO]NameLast modifiedSizeDescription

[DIR]Parent Directory  -  
[TXT]buildsrc-out.txt02-Jul-2022 00:05 954  
[   ]buildsrc-summary.dcf02-Jul-2022 00:05 420  
[TXT]checksrc-out.txt02-Jul-2022 00:05 20K 
[   ]checksrc-summary.dcf02-Jul-2022 00:05 434  
[TXT]install-out.txt02-Jul-2022 00:05 5.8K 
[   ]install-summary.dcf02-Jul-2022 00:05 261