Name | Last modified | Size | Description | |
---|---|---|---|---|
Parent Directory | - | |||
buildsrc-out.txt | 29-Mar-2024 00:37 | 954 | ||
buildsrc-summary.dcf | 29-Mar-2024 00:37 | 420 | ||
checksrc-out.txt | 29-Mar-2024 00:37 | 24K | ||
checksrc-summary.dcf | 29-Mar-2024 00:37 | 424 | ||
install-out.txt | 29-Mar-2024 00:37 | 5.9K | ||
install-summary.dcf | 29-Mar-2024 00:37 | 261 | ||