Index of /checkResults/devel/bioc-LATEST/TitanCNA/raw-results/lconway

[ICO]NameLast modifiedSizeDescription

[DIR]Parent Directory  -  
[TXT]buildbin-out.txt02-Jul-2022 00:08 7.6K 
[   ]buildbin-summary.dcf02-Jul-2022 00:08 536  
[TXT]buildsrc-out.txt02-Jul-2022 00:08 964  
[   ]buildsrc-summary.dcf02-Jul-2022 00:08 430  
[TXT]checksrc-out.txt02-Jul-2022 00:08 20K 
[   ]checksrc-summary.dcf02-Jul-2022 00:08 454  
[TXT]install-out.txt02-Jul-2022 00:08 6.7K 
[   ]install-summary.dcf02-Jul-2022 00:08 271