Index of /checkResults/devel/bioc-LATEST/TitanCNA/raw-results

[ICO]NameLast modifiedSizeDescription

[DIR]Parent Directory  -  
[DIR]palomino4/07-Jul-2022 00:08 -  
[DIR]nebbiolo2/07-Jul-2022 00:06 -  
[DIR]lconway/07-Jul-2022 00:10 -  
[DIR]kjohnson/07-Jul-2022 00:11 -  
[   ]info.dcf07-Jul-2022 00:11 260