Name | Last modified | Size | Description | |
---|---|---|---|---|
Parent Directory | - | |||
buildsrc-out.txt | 01-Jun-2024 08:29 | 890 | ||
buildsrc-summary.dcf | 01-Jun-2024 08:29 | 438 | ||
checksrc-out.txt | 01-Jun-2024 08:29 | 3.1K | ||
checksrc-summary.dcf | 01-Jun-2024 08:29 | 434 | ||
install-out.txt | 01-Jun-2024 08:29 | 967 | ||
install-summary.dcf | 01-Jun-2024 08:29 | 269 | ||