Back to Multiple platform build/check report for BioC 3.14
ABCDEFGHIJKLMNOPQRS[T]UVWXYZ

This page was generated on 2021-10-18 12:04:23 -0400 (Mon, 18 Oct 2021).

BUILD BIN results for TimeSeriesExperiment on riesling1

To the developers/maintainers of the TimeSeriesExperiment package:
- Please allow up to 24 hours (and sometimes 48 hours) for your latest push to git@git.bioconductor.org:packages/TimeSeriesExperiment.git to
reflect on this report. See How and When does the builder pull? When will my changes propagate? here for more information.
- Make sure to use the following settings in order to reproduce any error or warning you see on this page.

raw results

Package 1937/2060HostnameOS / ArchINSTALLBUILDCHECKBUILD BIN
TimeSeriesExperiment 1.11.1  (landing page)
Lan Huong Nguyen
Snapshot Date: 2021-10-17 14:50:03 -0400 (Sun, 17 Oct 2021)
git_url: https://git.bioconductor.org/packages/TimeSeriesExperiment
git_branch: master
git_last_commit: fcb85c7
git_last_commit_date: 2021-08-31 04:49:06 -0400 (Tue, 31 Aug 2021)
nebbiolo2Linux (Ubuntu 20.04.2 LTS) / x86_64  OK    OK    OK  UNNEEDED, same version is already published
riesling1Windows Server 2019 Standard / x64  OK    OK    OK    OK  UNNEEDED, same version is already published
merida1macOS 10.14.6 Mojave / x86_64  OK    OK    OK    NA  

Summary

Package: TimeSeriesExperiment
Version: 1.11.1
Command: rm -rf TimeSeriesExperiment.buildbin-libdir && mkdir TimeSeriesExperiment.buildbin-libdir && D:\biocbuild\bbs-3.14-bioc\R\bin\R.exe CMD INSTALL --merge-multiarch --build --library=TimeSeriesExperiment.buildbin-libdir TimeSeriesExperiment_1.11.1.tar.gz
StartedAt: 2021-10-18 07:41:49 -0400 (Mon, 18 Oct 2021)
EndedAt: 2021-10-18 07:46:00 -0400 (Mon, 18 Oct 2021)
EllapsedTime: 251.2 seconds
RetCode: 0
Status:   OK  
PackageFile: TimeSeriesExperiment_1.11.1.zip
PackageFileSize: 888.9 KiB

Command output

##############################################################################
##############################################################################
###
### Running command:
###
###   rm -rf TimeSeriesExperiment.buildbin-libdir && mkdir TimeSeriesExperiment.buildbin-libdir && D:\biocbuild\bbs-3.14-bioc\R\bin\R.exe CMD INSTALL --merge-multiarch --build --library=TimeSeriesExperiment.buildbin-libdir TimeSeriesExperiment_1.11.1.tar.gz
###
##############################################################################
##############################################################################



install for i386

* installing *source* package 'TimeSeriesExperiment' ...
** using staged installation
** R
** data
** inst
** byte-compile and prepare package for lazy loading
** help
*** installing help indices
  converting help for package 'TimeSeriesExperiment'
    finding HTML links ... done
    TimeSeriesExperiment                    html  
    finding level-2 HTML links ... done

    addLags                                 html  
    assignClusterDynamic                    html  
    assignClusterStatic                     html  
    clusterAssignment                       html  
    clusterData                             html  
    clusterTimeSeries                       html  
    colData                                 html  
    collapseReplicates                      html  
    collapsed-data                          html  
    dataToTimeSeries                        html  
    differentialExpression                  html  
    dimensionReduction                      html  
    dot-addLagsToTimeSeries                 html  
    dot-imputeData                          html  
    endoderm_small                          html  
    filterFeatures                          html  
    groups                                  html  
    makeTimeSeries                          html  
    makeTimeSeriesExperimentFromExpressionSet
                                            html  
    makeTimeSeriesExperimentFromSummarizedExperiment
                                            html  
    meltMatrix                              html  
    normalizeData                           html  
    pathwayEnrichment                       html  
    pipe                                    html  
    plotEnrichment                          html  
    plotHeatmap                             html  
    plotSamplePCA                           html  
    plotTimeSeries                          html  
    plotTimeSeriesClusters                  html  
    plotTimeSeriesPCA                       html  
    replicates                              html  
    rowData                                 html  
    row_and_colnames                        html  
    runPCA                                  html  
    show-methods                            html  
    timeSeries                              html  
    timepointDE                             html  
    timepoints                              html  
    trajectoryDE                            html  
    varianceStabilization                   html  
** building package indices
** installing vignettes
** testing if installed package can be loaded from temporary location
** testing if installed package can be loaded from final location
** testing if installed package keeps a record of temporary installation path

install for x64

* installing *source* package 'TimeSeriesExperiment' ...
** testing if installed package can be loaded
* MD5 sums
packaged installation of 'TimeSeriesExperiment' as TimeSeriesExperiment_1.11.1.zip
* DONE (TimeSeriesExperiment)