Back to Multiple platform build/check report for BioC 3.14
ABCDEFGHIJKLMNOPQRS[T]UVWXYZ

This page was generated on 2021-10-20 12:05:56 -0400 (Wed, 20 Oct 2021).

BUILD results for TimeSeriesExperiment on merida1

To the developers/maintainers of the TimeSeriesExperiment package:
- Please allow up to 24 hours (and sometimes 48 hours) for your latest push to git@git.bioconductor.org:packages/TimeSeriesExperiment.git to
reflect on this report. See How and When does the builder pull? When will my changes propagate? here for more information.
- Make sure to use the following settings in order to reproduce any error or warning you see on this page.

raw results

Package 1949/2072HostnameOS / ArchINSTALLBUILDCHECKBUILD BIN
TimeSeriesExperiment 1.11.1  (landing page)
Lan Huong Nguyen
Snapshot Date: 2021-10-19 14:50:04 -0400 (Tue, 19 Oct 2021)
git_url: https://git.bioconductor.org/packages/TimeSeriesExperiment
git_branch: master
git_last_commit: fcb85c7
git_last_commit_date: 2021-08-31 04:49:06 -0400 (Tue, 31 Aug 2021)
nebbiolo2Linux (Ubuntu 20.04.2 LTS) / x86_64  OK    OK    OK  UNNEEDED, same version is already published
riesling1Windows Server 2019 Standard / x64  OK    OK    OK    OK  UNNEEDED, same version is already published
merida1macOS 10.14.6 Mojave / x86_64  OK    OK    OK    NA  

Summary

Package: TimeSeriesExperiment
Version: 1.11.1
Command: /Library/Frameworks/R.framework/Resources/bin/R CMD build --keep-empty-dirs --no-resave-data TimeSeriesExperiment
StartedAt: 2021-10-19 23:40:23 -0400 (Tue, 19 Oct 2021)
EndedAt: 2021-10-19 23:42:38 -0400 (Tue, 19 Oct 2021)
EllapsedTime: 134.8 seconds
RetCode: 0
Status:   OK  
PackageFile: TimeSeriesExperiment_1.11.1.tar.gz
PackageFileSize: 1.46 MiB

Command output

##############################################################################
##############################################################################
###
### Running command:
###
###   /Library/Frameworks/R.framework/Resources/bin/R CMD build --keep-empty-dirs --no-resave-data TimeSeriesExperiment
###
##############################################################################
##############################################################################


* checking for file ‘TimeSeriesExperiment/DESCRIPTION’ ... OK
* preparing ‘TimeSeriesExperiment’:
* checking DESCRIPTION meta-information ... OK
* installing the package to build vignettes
* creating vignettes ... OK
* checking for LF line-endings in source and make files and shell scripts
* checking for empty or unneeded directories
* looking to see if a ‘data/datalist’ file should be added
* building ‘TimeSeriesExperiment_1.11.1.tar.gz’