Name | Last modified | Size | Description | |
---|---|---|---|---|
Parent Directory | - | |||
buildsrc-out.txt | 16-Jun-2024 01:34 | 846 | ||
buildsrc-summary.dcf | 16-Jun-2024 01:34 | 435 | ||
checksrc-out.txt | 16-Jun-2024 01:34 | 5.1K | ||
checksrc-summary.dcf | 16-Jun-2024 01:34 | 429 | ||
install-out.txt | 16-Jun-2024 01:34 | 964 | ||
install-summary.dcf | 16-Jun-2024 01:34 | 266 | ||