![]() | Name | Last modified | Size | Description |
---|---|---|---|---|
![]() | Parent Directory | - | ||
![]() | buildsrc-out.txt | 28-Sep-2023 00:37 | 826 | |
![]() | buildsrc-summary.dcf | 28-Sep-2023 00:37 | 409 | |
![]() | checksrc-out.txt | 28-Sep-2023 00:37 | 4.9K | |
![]() | checksrc-summary.dcf | 28-Sep-2023 00:37 | 408 | |
![]() | install-out.txt | 28-Sep-2023 00:37 | 963 | |
![]() | install-summary.dcf | 28-Sep-2023 00:37 | 253 | |