Index of /checkResults/devel/bioc-LATEST/TVTB/raw-results/lconway

[ICO]NameLast modifiedSizeDescription

[DIR]Parent Directory  -  
[TXT]buildbin-out.txt23-Sep-2023 00:40 1.1K 
[   ]buildbin-summary.dcf23-Sep-2023 00:40 512  
[TXT]buildsrc-out.txt23-Sep-2023 00:40 836  
[   ]buildsrc-summary.dcf23-Sep-2023 00:40 419  
[TXT]checksrc-out.txt23-Sep-2023 00:40 4.8K 
[   ]checksrc-summary.dcf23-Sep-2023 00:40 438  
[TXT]install-out.txt23-Sep-2023 00:40 1.0K 
[   ]install-summary.dcf23-Sep-2023 00:40 263