![]() | Name | Last modified | Size | Description |
---|---|---|---|---|
![]() | Parent Directory | - | ||
![]() | buildsrc-out.txt | 23-Sep-2023 00:41 | 722 | |
![]() | buildsrc-summary.dcf | 23-Sep-2023 00:41 | 322 | |
![]() | checksrc-out.txt | 22-Sep-2023 00:41 | 4.8K | |
![]() | checksrc-summary.dcf | 22-Sep-2023 00:41 | 396 | |
![]() | install-out.txt | 23-Sep-2023 00:41 | 951 | |
![]() | install-summary.dcf | 23-Sep-2023 00:41 | 247 | |