Index of /checkResults/devel/bioc-LATEST/TVTB/raw-results
Name
Last modified
Size
Description
Parent Directory
-
nebbiolo2/
24-Sep-2023 00:36
-
lconway/
24-Sep-2023 00:39
-
info.dcf
24-Sep-2023 00:40
264
kunpeng2/
24-Sep-2023 00:40
-