Index of /checkResults/devel/bioc-LATEST/TFHAZ/raw-results/palomino3

[ICO]NameLast modifiedSizeDescription

[DIR]Parent Directory  -  
[TXT]buildbin-out.txt23-Feb-2024 02:48 1.1K 
[   ]buildbin-summary.dcf23-Feb-2024 02:48 503  
[TXT]buildsrc-out.txt23-Feb-2024 02:48 1.1K 
[   ]buildsrc-summary.dcf23-Feb-2024 02:48 444  
[TXT]checksrc-out.txt23-Feb-2024 02:48 3.3K 
[   ]checksrc-summary.dcf23-Feb-2024 02:48 439  
[TXT]install-out.txt23-Feb-2024 02:48 1.0K 
[   ]install-summary.dcf23-Feb-2024 02:48 264