Index of /checkResults/devel/bioc-LATEST/TFHAZ/raw-results

[ICO]NameLast modifiedSizeDescription

[DIR]Parent Directory  -  
[   ]info.dcf29-Mar-2024 00:36 260  
[DIR]kunpeng2/29-Mar-2024 00:41 -  
[DIR]lconway/29-Mar-2024 00:40 -  
[DIR]merida1/05-Mar-2024 01:40 -  
[DIR]nebbiolo1/29-Mar-2024 00:37 -  
[DIR]palomino3/29-Mar-2024 00:38 -