Index of /checkResults/devel/bioc-LATEST/TFHAZ/raw-results

[ICO]NameLast modifiedSizeDescription

[DIR]Parent Directory  -  
[   ]info.dcf01-Dec-2023 01:40 1.0K 
[DIR]kunpeng2/01-Dec-2023 01:40 -  
[DIR]merida1/01-Dec-2023 01:39 -  
[DIR]nebbiolo1/01-Dec-2023 01:36 -  
[DIR]palomino3/01-Dec-2023 01:37 -