Back to Multiple platform build/check report for BioC 3.17:   simplified   long
ABCDEFGHIJKLMNOPQRS[T]UVWXYZ

This page was generated on 2023-03-24 11:05:40 -0400 (Fri, 24 Mar 2023).

HostnameOSArch (*)R versionInstalled pkgs
nebbiolo1Linux (Ubuntu 22.04.1 LTS)x86_64R Under development (unstable) (2023-03-16 r83996) -- "Unsuffered Consequences" 4546
palomino3Windows Server 2022 Datacenterx64R Under development (unstable) (2023-03-15 r83984 ucrt) -- "Unsuffered Consequences" 4307
merida1macOS 10.14.6 Mojavex86_64R Under development (unstable) (2023-03-16 r83985) -- "Unsuffered Consequences" 4299
Click on any hostname to see more info about the system (e.g. compilers)      (*) as reported by 'uname -p', except on Windows and Mac OS X

CHECK results for TFEA.ChIP on nebbiolo1


To the developers/maintainers of the TFEA.ChIP package:
- Please allow up to 24 hours (and sometimes 48 hours) for your latest push to git@git.bioconductor.org:packages/TFEA.ChIP.git to
reflect on this report. See How and When does the builder pull? When will my changes propagate? for more information.
- Make sure to use the following settings in order to reproduce any error or warning you see on this page.

raw results

Package 2056/2195HostnameOS / ArchINSTALLBUILDCHECKBUILD BIN
TFEA.ChIP 1.19.0  (landing page)
Laura Puente Santamaría
Snapshot Date: 2023-03-23 14:00:15 -0400 (Thu, 23 Mar 2023)
git_url: https://git.bioconductor.org/packages/TFEA.ChIP
git_branch: devel
git_last_commit: 84974fd
git_last_commit_date: 2022-11-01 11:16:54 -0400 (Tue, 01 Nov 2022)
nebbiolo1Linux (Ubuntu 22.04.1 LTS) / x86_64  OK    OK    OK  UNNEEDED, same version is already published
palomino3Windows Server 2022 Datacenter / x64  OK    OK    OK    OK  UNNEEDED, same version is already published
merida1macOS 10.14.6 Mojave / x86_64  OK    OK    OK    OK  UNNEEDED, same version is already published

Summary

Package: TFEA.ChIP
Version: 1.19.0
Command: /home/biocbuild/bbs-3.17-bioc/R/bin/R CMD check --install=check:TFEA.ChIP.install-out.txt --library=/home/biocbuild/bbs-3.17-bioc/R/site-library --timings TFEA.ChIP_1.19.0.tar.gz
StartedAt: 2023-03-24 00:39:34 -0400 (Fri, 24 Mar 2023)
EndedAt: 2023-03-24 00:46:17 -0400 (Fri, 24 Mar 2023)
EllapsedTime: 403.9 seconds
RetCode: 0
Status:   OK  
CheckDir: TFEA.ChIP.Rcheck
Warnings: 0

Command output

##############################################################################
##############################################################################
###
### Running command:
###
###   /home/biocbuild/bbs-3.17-bioc/R/bin/R CMD check --install=check:TFEA.ChIP.install-out.txt --library=/home/biocbuild/bbs-3.17-bioc/R/site-library --timings TFEA.ChIP_1.19.0.tar.gz
###
##############################################################################
##############################################################################


* using log directory ‘/home/biocbuild/bbs-3.17-bioc/meat/TFEA.ChIP.Rcheck’
* using R Under development (unstable) (2023-03-16 r83996)
* using platform: x86_64-pc-linux-gnu (64-bit)
* R was compiled by
    gcc (Ubuntu 11.3.0-1ubuntu1~22.04) 11.3.0
    GNU Fortran (Ubuntu 11.3.0-1ubuntu1~22.04) 11.3.0
* running under: Ubuntu 22.04.2 LTS
* using session charset: UTF-8
* checking for file ‘TFEA.ChIP/DESCRIPTION’ ... OK
* checking extension type ... Package
* this is package ‘TFEA.ChIP’ version ‘1.19.0’
* package encoding: UTF-8
* checking package namespace information ... OK
* checking package dependencies ... OK
* checking if this is a source package ... OK
* checking if there is a namespace ... OK
* checking for hidden files and directories ... OK
* checking for portable file names ... OK
* checking for sufficient/correct file permissions ... OK
* checking whether package ‘TFEA.ChIP’ can be installed ... OK
* checking installed package size ... NOTE
  installed size is  5.3Mb
  sub-directories of 1Mb or more:
    data   5.0Mb
* checking package directory ... OK
* checking ‘build’ directory ... OK
* checking DESCRIPTION meta-information ... OK
* checking top-level files ... OK
* checking for left-over files ... OK
* checking index information ... OK
* checking package subdirectories ... OK
* checking R files for non-ASCII characters ... OK
* checking R files for syntax errors ... OK
* checking whether the package can be loaded ... OK
* checking whether the package can be loaded with stated dependencies ... OK
* checking whether the package can be unloaded cleanly ... OK
* checking whether the namespace can be loaded with stated dependencies ... OK
* checking whether the namespace can be unloaded cleanly ... OK
* checking loading without being on the library search path ... OK
* checking startup messages can be suppressed ... OK
* checking dependencies in R code ... OK
* checking S3 generic/method consistency ... OK
* checking replacement functions ... OK
* checking foreign function calls ... OK
* checking R code for possible problems ... NOTE
rankTFs: no visible binding for global variable ‘arg.ES’
rankTFs: no visible binding for global variable ‘ES’
rankTFs: no visible binding for global variable ‘TF’
Undefined global functions or variables:
  ES TF arg.ES
* checking Rd files ... OK
* checking Rd metadata ... OK
* checking Rd cross-references ... OK
* checking for missing documentation entries ... OK
* checking for code/documentation mismatches ... OK
* checking Rd \usage sections ... OK
* checking Rd contents ... OK
* checking for unstated dependencies in examples ... OK
* checking contents of ‘data’ directory ... OK
* checking data for non-ASCII characters ... OK
* checking data for ASCII and uncompressed saves ... OK
* checking files in ‘vignettes’ ... OK
* checking examples ... OK
Examples with CPU (user + system) or elapsed time > 5s
             user system elapsed
rankTFs    14.988  0.179  15.167
GSEA_run   12.638  0.252  12.890
plot_CM     6.985  0.104   7.089
getCMstats  6.428  0.128   6.557
* checking for unstated dependencies in ‘tests’ ... OK
* checking tests ...
  Running ‘runTests.R’
 OK
* checking for unstated dependencies in vignettes ... OK
* checking package vignettes in ‘inst/doc’ ... OK
* checking running R code from vignettes ...
  ‘TFEA.ChIP.Rmd’ using ‘UTF-8’... OK
 NONE
* checking re-building of vignette outputs ... OK
* checking PDF version of manual ... OK
* DONE

Status: 2 NOTEs
See
  ‘/home/biocbuild/bbs-3.17-bioc/meat/TFEA.ChIP.Rcheck/00check.log’
for details.



Installation output

TFEA.ChIP.Rcheck/00install.out

##############################################################################
##############################################################################
###
### Running command:
###
###   /home/biocbuild/bbs-3.17-bioc/R/bin/R CMD INSTALL TFEA.ChIP
###
##############################################################################
##############################################################################


* installing to library ‘/home/biocbuild/bbs-3.17-bioc/R/site-library’
* installing *source* package ‘TFEA.ChIP’ ...
** using staged installation
** R
** data
** inst
** byte-compile and prepare package for lazy loading
** help
*** installing help indices
** building package indices
** installing vignettes
** testing if installed package can be loaded from temporary location
** testing if installed package can be loaded from final location
** testing if installed package keeps a record of temporary installation path
* DONE (TFEA.ChIP)

Tests output

TFEA.ChIP.Rcheck/tests/runTests.Rout


R Under development (unstable) (2023-03-16 r83996) -- "Unsuffered Consequences"
Copyright (C) 2023 The R Foundation for Statistical Computing
Platform: x86_64-pc-linux-gnu (64-bit)

R is free software and comes with ABSOLUTELY NO WARRANTY.
You are welcome to redistribute it under certain conditions.
Type 'license()' or 'licence()' for distribution details.

R is a collaborative project with many contributors.
Type 'contributors()' for more information and
'citation()' on how to cite R or R packages in publications.

Type 'demo()' for some demos, 'help()' for on-line help, or
'help.start()' for an HTML browser interface to help.
Type 'q()' to quit R.

> BiocGenerics:::testPackage(pkgname = "TFEA.ChIP")

Because of space limitations, TFEA.ChIPs internal database only includes ChIP-seq experiments from cell types in ENCODE's tiers 1, 2, and 2.5. 
To download the full ReMap2022 database, as well as other ready-to-use databases, visit https://github.com/LauraPS1/TFEA.ChIP_downloads

  |                                                                            
  |                                                                      |   0%
  |                                                                            
  |==================                                                    |  25%
  |                                                                            
  |===================================                                   |  50%
  |                                                                            
  |====================================================                  |  75%
  |                                                                            
  |======================================================================| 100%

  |                                                                            
  |                                                                      |   0%
  |                                                                            
  |===================================                                   |  50%
  |                                                                            
  |======================================================================| 100%
Done! 2 genes of 2 successfully converted.

Done! 1 genes of 1 successfully converted.

Done! 1 genes of 1 successfully converted.

Done! 2 genes of 2 successfully converted.

Done! 16581 genes of 17527 successfully converted.

Couldn't find Entrez IDs for 946 genes.

Loading required package: DESeq2
Loading required package: S4Vectors
Loading required package: stats4
Loading required package: BiocGenerics

Attaching package: 'BiocGenerics'

The following objects are masked from 'package:stats':

    IQR, mad, sd, var, xtabs

The following objects are masked from 'package:base':

    Filter, Find, Map, Position, Reduce, anyDuplicated, aperm, append,
    as.data.frame, basename, cbind, colnames, dirname, do.call,
    duplicated, eval, evalq, get, grep, grepl, intersect, is.unsorted,
    lapply, mapply, match, mget, order, paste, pmax, pmax.int, pmin,
    pmin.int, rank, rbind, rownames, sapply, setdiff, sort, table,
    tapply, union, unique, unsplit, which.max, which.min


Attaching package: 'S4Vectors'

The following objects are masked from 'package:base':

    I, expand.grid, unname

Loading required package: IRanges
Loading required package: GenomicRanges
Loading required package: GenomeInfoDb
Loading required package: SummarizedExperiment
Loading required package: MatrixGenerics
Loading required package: matrixStats

Attaching package: 'MatrixGenerics'

The following objects are masked from 'package:matrixStats':

    colAlls, colAnyNAs, colAnys, colAvgsPerRowSet, colCollapse,
    colCounts, colCummaxs, colCummins, colCumprods, colCumsums,
    colDiffs, colIQRDiffs, colIQRs, colLogSumExps, colMadDiffs,
    colMads, colMaxs, colMeans2, colMedians, colMins, colOrderStats,
    colProds, colQuantiles, colRanges, colRanks, colSdDiffs, colSds,
    colSums2, colTabulates, colVarDiffs, colVars, colWeightedMads,
    colWeightedMeans, colWeightedMedians, colWeightedSds,
    colWeightedVars, rowAlls, rowAnyNAs, rowAnys, rowAvgsPerColSet,
    rowCollapse, rowCounts, rowCummaxs, rowCummins, rowCumprods,
    rowCumsums, rowDiffs, rowIQRDiffs, rowIQRs, rowLogSumExps,
    rowMadDiffs, rowMads, rowMaxs, rowMeans2, rowMedians, rowMins,
    rowOrderStats, rowProds, rowQuantiles, rowRanges, rowRanks,
    rowSdDiffs, rowSds, rowSums2, rowTabulates, rowVarDiffs, rowVars,
    rowWeightedMads, rowWeightedMeans, rowWeightedMedians,
    rowWeightedSds, rowWeightedVars

Loading required package: Biobase
Welcome to Bioconductor

    Vignettes contain introductory material; view with
    'browseVignettes()'. To cite Bioconductor, see
    'citation("Biobase")', and for packages 'citation("pkgname")'.


Attaching package: 'Biobase'

The following object is masked from 'package:MatrixGenerics':

    rowMedians

The following objects are masked from 'package:matrixStats':

    anyMissing, rowMedians

Done! 10444 genes of 11667 successfully converted.

Couldn't find Entrez IDs for 1223 genes.

Done! 16581 genes of 17527 successfully converted.

Couldn't find Entrez IDs for 946 genes.

Done! 10444 genes of 11667 successfully converted.

Couldn't find Entrez IDs for 1223 genes.



RUNIT TEST PROTOCOL -- Fri Mar 24 00:45:24 2023 
*********************************************** 
Number of test functions: 10 
Number of errors: 0 
Number of failures: 0 

 
1 Test Suite : 
TFEA.ChIP RUnit Tests - 10 test functions, 0 errors, 0 failures
Number of test functions: 10 
Number of errors: 0 
Number of failures: 0 
Warning message:
Some genes returned 1:many mapping to ENTREZ ID. Genes were assigned the first ENTREZ ID match found.
 
> 
> proc.time()
   user  system elapsed 
 45.123   0.969  46.082 

Example timings

TFEA.ChIP.Rcheck/TFEA.ChIP-Ex.timings

nameusersystemelapsed
GSEA_EnrichmentScore0.0000.0000.001
GSEA_run12.638 0.25212.890
GeneID2entrez0.4060.0080.415
Select_genes0.0850.0230.108
contingency_matrix4.6010.0164.618
getCMstats6.4280.1286.557
get_chip_index0.0210.0200.042
makeChIPGeneDB0.0970.0000.097
matrixDB_to_listDB0.0010.0000.001
plot_CM6.9850.1047.089
plot_ES0.3580.0520.410
plot_RES0.5320.0450.557
preprocessInputData1.3870.3081.695
rankTFs14.988 0.17915.167
set_user_data1.0820.0171.098
txt2GR0.0320.0000.032