Index of /checkResults/devel/bioc-LATEST/TENxIO/raw-results/lconway
Name
Last modified
Size
Description
Parent Directory
-
install-summary.dcf
27-Jun-2024 00:38
266
buildsrc-summary.dcf
27-Jun-2024 00:38
340
install-out.txt
27-Jun-2024 00:38
1.0K
buildsrc-out.txt
27-Jun-2024 00:38
1.0K