Back to Multiple platform build/check report for BioC 3.14
ABCDEFGHIJKLMNOPQRS[T]UVWXYZ

This page was generated on 2021-10-22 12:04:47 -0400 (Fri, 22 Oct 2021).

BUILD results for TCseq on riesling1

To the developers/maintainers of the TCseq package:
- Please allow up to 24 hours (and sometimes 48 hours) for your latest push to git@git.bioconductor.org:packages/TCseq.git to
reflect on this report. See How and When does the builder pull? When will my changes propagate? here for more information.
- Make sure to use the following settings in order to reproduce any error or warning you see on this page.

raw results

Package 1933/2075HostnameOS / ArchINSTALLBUILDCHECKBUILD BIN
TCseq 1.17.0  (landing page)
Mengjun Wu
Snapshot Date: 2021-10-21 14:50:08 -0400 (Thu, 21 Oct 2021)
git_url: https://git.bioconductor.org/packages/TCseq
git_branch: master
git_last_commit: 9503581
git_last_commit_date: 2021-05-19 12:25:15 -0400 (Wed, 19 May 2021)
nebbiolo2Linux (Ubuntu 20.04.2 LTS) / x86_64  OK    OK    OK  UNNEEDED, same version is already published
riesling1Windows Server 2019 Standard / x64  OK    OK    OK    OK  UNNEEDED, same version is already published
merida1macOS 10.14.6 Mojave / x86_64  OK    OK    OK    NA  

Summary

Package: TCseq
Version: 1.17.0
Command: chmod a+r TCseq -R && D:\biocbuild\bbs-3.14-bioc\R\bin\R.exe CMD build --keep-empty-dirs --no-resave-data TCseq
StartedAt: 2021-10-21 23:32:36 -0400 (Thu, 21 Oct 2021)
EndedAt: 2021-10-21 23:36:27 -0400 (Thu, 21 Oct 2021)
EllapsedTime: 230.3 seconds
RetCode: 0
Status:   OK  
PackageFile: TCseq_1.17.0.tar.gz
PackageFileSize: 1.066 MiB

Command output

##############################################################################
##############################################################################
###
### Running command:
###
###   chmod a+r TCseq -R && D:\biocbuild\bbs-3.14-bioc\R\bin\R.exe CMD build --keep-empty-dirs --no-resave-data TCseq
###
##############################################################################
##############################################################################


* checking for file 'TCseq/DESCRIPTION' ... OK
* preparing 'TCseq':
* checking DESCRIPTION meta-information ... OK
* installing the package to build vignettes
* creating vignettes ... OK
* checking for LF line-endings in source and make files and shell scripts
* checking for empty or unneeded directories
* building 'TCseq_1.17.0.tar.gz'