Index of /checkResults/devel/bioc-LATEST/TCGAutils/raw-results/palomino3

[ICO]NameLast modifiedSizeDescription

[DIR]Parent Directory  -  
[TXT]buildbin-out.txt29-Mar-2024 00:38 1.1K 
[   ]buildbin-summary.dcf29-Mar-2024 00:38 527  
[TXT]buildsrc-out.txt29-Mar-2024 00:38 909  
[   ]buildsrc-summary.dcf29-Mar-2024 00:38 461  
[TXT]checksrc-out.txt29-Mar-2024 00:38 3.8K 
[   ]checksrc-summary.dcf29-Mar-2024 00:38 455  
[TXT]install-out.txt29-Mar-2024 00:38 1.0K 
[   ]install-summary.dcf29-Mar-2024 00:38 272