Index of /checkResults/devel/bioc-LATEST/TCGAutils/raw-results/nebbiolo1

[ICO]NameLast modifiedSizeDescription

[DIR]Parent Directory  -  
[   ]install-summary.dcf29-Mar-2024 00:37 263  
[TXT]install-out.txt29-Mar-2024 00:37 966  
[   ]checksrc-summary.dcf29-Mar-2024 00:37 422  
[TXT]checksrc-out.txt29-Mar-2024 00:37 3.8K 
[   ]buildsrc-summary.dcf29-Mar-2024 00:37 424  
[TXT]buildsrc-out.txt29-Mar-2024 00:37 877