Index of /checkResults/devel/bioc-LATEST/TCGAutils/raw-results/merida1

[ICO]NameLast modifiedSizeDescription

[DIR]Parent Directory  -  
[   ]install-summary.dcf05-Mar-2024 01:40 273  
[TXT]install-out.txt05-Mar-2024 01:40 1.0K 
[   ]checksrc-summary.dcf05-Mar-2024 01:40 452  
[TXT]checksrc-out.txt05-Mar-2024 01:40 3.9K 
[   ]buildsrc-summary.dcf05-Mar-2024 01:40 434  
[TXT]buildsrc-out.txt05-Mar-2024 01:40 887  
[   ]buildbin-summary.dcf05-Mar-2024 01:40 543  
[TXT]buildbin-out.txt05-Mar-2024 01:40 1.2K