Back to Multiple platform build/check report for BioC 3.16
ABCDEFGHIJKLMNOPQRS[T]UVWXYZ

This page was generated on 2022-08-19 12:12:31 -0400 (Fri, 19 Aug 2022).

HostnameOSArch (*)R versionInstalled pkgs
nebbiolo2Linux (Ubuntu 20.04.4 LTS)x86_644.2.1 (2022-06-23) -- "Funny-Looking Kid" 4387
lconwaymacOS 12.2.1 Montereyx86_644.2.1 Patched (2022-07-09 r82577) -- "Funny-Looking Kid" 4177
Click on any hostname to see more info about the system (e.g. compilers)      (*) as reported by 'uname -p', except on Windows and Mac OS X

BUILD results for TCGAbiolinksGUI on lconway


To the developers/maintainers of the TCGAbiolinksGUI package:
- Please allow up to 24 hours (and sometimes 48 hours) for your latest push to git@git.bioconductor.org:packages/TCGAbiolinksGUI.git to
reflect on this report. See How and When does the builder pull? When will my changes propagate? for more information.
- Make sure to use the following settings in order to reproduce any error or warning you see on this page.

raw results

Package 1993/2144HostnameOS / ArchINSTALLBUILDCHECKBUILD BIN
TCGAbiolinksGUI 1.23.1  (landing page)
Tiago C. Silva
Snapshot Date: 2022-08-18 14:00:04 -0400 (Thu, 18 Aug 2022)
git_url: https://git.bioconductor.org/packages/TCGAbiolinksGUI
git_branch: master
git_last_commit: 00cd41c
git_last_commit_date: 2022-05-10 10:18:05 -0400 (Tue, 10 May 2022)
nebbiolo2Linux (Ubuntu 20.04.4 LTS) / x86_64  ERROR    ERROR  skipped
lconwaymacOS 12.2.1 Monterey / x86_64  ERROR    ERROR  skippedskipped

Summary

Package: TCGAbiolinksGUI
Version: 1.23.1
Command: /Library/Frameworks/R.framework/Resources/bin/R CMD build --keep-empty-dirs --no-resave-data TCGAbiolinksGUI
StartedAt: 2022-08-18 18:04:38 -0400 (Thu, 18 Aug 2022)
EndedAt: 2022-08-18 18:04:39 -0400 (Thu, 18 Aug 2022)
EllapsedTime: 1.1 seconds
RetCode: 1
Status:   ERROR  
PackageFile: None
PackageFileSize: NA

Command output

##############################################################################
##############################################################################
###
### Running command:
###
###   /Library/Frameworks/R.framework/Resources/bin/R CMD build --keep-empty-dirs --no-resave-data TCGAbiolinksGUI
###
##############################################################################
##############################################################################


* checking for file ‘TCGAbiolinksGUI/DESCRIPTION’ ... OK
* preparing ‘TCGAbiolinksGUI’:
* checking DESCRIPTION meta-information ... OK
* installing the package to build vignettes
      -----------------------------------
* installing *source* package ‘TCGAbiolinksGUI’ ...
** using staged installation
** R
Error in parse(outFile) : 
  /private/tmp/Rtmpc8WAPc/Rbuild5ebc7a67fd6b/TCGAbiolinksGUI/R/zzz.R:28:1: unexpected '}'
27: }
28: }
    ^
ERROR: unable to collate and parse R files for package ‘TCGAbiolinksGUI’
* removing ‘/private/tmp/Rtmpc8WAPc/Rinst5ebc412eba95/TCGAbiolinksGUI’
      -----------------------------------
ERROR: package installation failed