Back to Multiple platform build/check report for BioC 3.14
ABCDEFGHIJKLMNOPQRS[T]UVWXYZ

This page was generated on 2021-10-23 14:06:48 -0400 (Sat, 23 Oct 2021).

BUILD BIN results for TCC on riesling1

To the developers/maintainers of the TCC package:
- Please allow up to 24 hours (and sometimes 48 hours) for your latest push to git@git.bioconductor.org:packages/TCC.git to
reflect on this report. See How and When does the builder pull? When will my changes propagate? here for more information.
- Make sure to use the following settings in order to reproduce any error or warning you see on this page.

raw results

Package 1936/2083HostnameOS / ArchINSTALLBUILDCHECKBUILD BIN
TCC 1.33.0  (landing page)
Jianqiang Sun
Snapshot Date: 2021-10-22 14:50:11 -0400 (Fri, 22 Oct 2021)
git_url: https://git.bioconductor.org/packages/TCC
git_branch: master
git_last_commit: c4c22b5
git_last_commit_date: 2021-05-19 12:00:26 -0400 (Wed, 19 May 2021)
nebbiolo2Linux (Ubuntu 20.04.2 LTS) / x86_64  OK    OK    OK  UNNEEDED, same version is already published
riesling1Windows Server 2019 Standard / x64  OK    OK    OK    OK  UNNEEDED, same version is already published
merida1macOS 10.14.6 Mojave / x86_64  OK    OK    OK    OK  UNNEEDED, same version is already published

Summary

Package: TCC
Version: 1.33.0
Command: rm -rf TCC.buildbin-libdir && mkdir TCC.buildbin-libdir && D:\biocbuild\bbs-3.14-bioc\R\bin\R.exe CMD INSTALL --merge-multiarch --build --library=TCC.buildbin-libdir TCC_1.33.0.tar.gz
StartedAt: 2021-10-23 13:07:48 -0400 (Sat, 23 Oct 2021)
EndedAt: 2021-10-23 13:12:01 -0400 (Sat, 23 Oct 2021)
EllapsedTime: 253.2 seconds
RetCode: 0
Status:   OK  
PackageFile: TCC_1.33.0.zip
PackageFileSize: 1.876 MiB

Command output

##############################################################################
##############################################################################
###
### Running command:
###
###   rm -rf TCC.buildbin-libdir && mkdir TCC.buildbin-libdir && D:\biocbuild\bbs-3.14-bioc\R\bin\R.exe CMD INSTALL --merge-multiarch --build --library=TCC.buildbin-libdir TCC_1.33.0.tar.gz
###
##############################################################################
##############################################################################



install for i386

* installing *source* package 'TCC' ...
** using staged installation
** R
** data
** inst
** byte-compile and prepare package for lazy loading
Creating a new generic function for 'calcNormFactors' in package 'TCC'
** help
*** installing help indices
  converting help for package 'TCC'
    finding HTML links ... done
    ROKU                                    html  
    TCC-class                               html  
    TCC                                     html  
    WAD                                     html  
    arab                                    html  
    calcAUCValue                            html  
    calcNormFactors                         html  
    clusterSample                           html  
    estimateDE                              html  
    filterLowCountGenes                     html  
    getNormalizedData                       html  
    getResult                               html  
    hypoData                                html  
    hypoData_mg                             html  
    hypoData_ts                             html  
    makeFCMatrix                            html  
    nakai                                   html  
    plot.TCC                                html  
    plotFCPseudocolor                       html  
    simulateReadCounts                      html  
** building package indices
** installing vignettes
** testing if installed package can be loaded from temporary location
** testing if installed package can be loaded from final location
** testing if installed package keeps a record of temporary installation path

install for x64

* installing *source* package 'TCC' ...
** testing if installed package can be loaded
* MD5 sums
packaged installation of 'TCC' as TCC_1.33.0.zip
* DONE (TCC)