Index of /checkResults/devel/bioc-LATEST/TCC/raw-results
Name
Last modified
Size
Description
Parent Directory
-
info.dcf
07-Aug-2022 00:08
263
kjohnson/
12-Jul-2022 00:06
-
lconway/
07-Aug-2022 00:08
-
nebbiolo2/
07-Aug-2022 00:05
-
palomino4/
07-Aug-2022 00:07
-