Back to Multiple platform build/check report for BioC 3.14
ABCDEFGHIJKLMNOPQRS[T]UVWXYZ

This page was generated on 2021-10-23 14:06:48 -0400 (Sat, 23 Oct 2021).

BUILD BIN results for TBSignatureProfiler on riesling1

To the developers/maintainers of the TBSignatureProfiler package:
- Please allow up to 24 hours (and sometimes 48 hours) for your latest push to git@git.bioconductor.org:packages/TBSignatureProfiler.git to
reflect on this report. See How and When does the builder pull? When will my changes propagate? here for more information.
- Make sure to use the following settings in order to reproduce any error or warning you see on this page.

raw results

Package 1935/2083HostnameOS / ArchINSTALLBUILDCHECKBUILD BIN
TBSignatureProfiler 1.5.14  (landing page)
Aubrey Odom
Snapshot Date: 2021-10-22 14:50:11 -0400 (Fri, 22 Oct 2021)
git_url: https://git.bioconductor.org/packages/TBSignatureProfiler
git_branch: master
git_last_commit: 8fb176f
git_last_commit_date: 2021-09-29 17:23:12 -0400 (Wed, 29 Sep 2021)
nebbiolo2Linux (Ubuntu 20.04.2 LTS) / x86_64  OK    OK    OK  UNNEEDED, same version is already published
riesling1Windows Server 2019 Standard / x64  OK    OK    OK    OK  UNNEEDED, same version is already published
merida1macOS 10.14.6 Mojave / x86_64  OK    OK    OK    OK  UNNEEDED, same version is already published

Summary

Package: TBSignatureProfiler
Version: 1.5.14
Command: rm -rf TBSignatureProfiler.buildbin-libdir && mkdir TBSignatureProfiler.buildbin-libdir && D:\biocbuild\bbs-3.14-bioc\R\bin\R.exe CMD INSTALL --merge-multiarch --build --library=TBSignatureProfiler.buildbin-libdir TBSignatureProfiler_1.5.14.tar.gz
StartedAt: 2021-10-23 13:07:41 -0400 (Sat, 23 Oct 2021)
EndedAt: 2021-10-23 13:11:54 -0400 (Sat, 23 Oct 2021)
EllapsedTime: 252.9 seconds
RetCode: 0
Status:   OK  
PackageFile: TBSignatureProfiler_1.5.14.zip
PackageFileSize: 5.25 MiB

Command output

##############################################################################
##############################################################################
###
### Running command:
###
###   rm -rf TBSignatureProfiler.buildbin-libdir && mkdir TBSignatureProfiler.buildbin-libdir && D:\biocbuild\bbs-3.14-bioc\R\bin\R.exe CMD INSTALL --merge-multiarch --build --library=TBSignatureProfiler.buildbin-libdir TBSignatureProfiler_1.5.14.tar.gz
###
##############################################################################
##############################################################################



install for i386

* installing *source* package 'TBSignatureProfiler' ...
** using staged installation
** R
** data
*** moving datasets to lazyload DB
** inst
** byte-compile and prepare package for lazy loading
** help
*** installing help indices
  converting help for package 'TBSignatureProfiler'
    finding HTML links ... done
    Bootstrap_LOOCV_LR_AUC                  html  
    COVIDsignatures                         html  
    LOOAUC_simple_multiple_noplot_one_df    html  
    ObtainSampleScore_OriginalModel         html  
    OriginalTrainingData                    html  
    SignatureQuantitative                   html  
    SulimanOriginalModel                    html  
    TBSPapp                                 html  
    TB_hiv                                  html  
    TB_indian                               html  
    TBcommon                                html  
    TBsignatures                            html  
    TBsignaturesSplit                       html  
    addTBsignature                          html  
    bootstrapAUC                            html  
    common_sigAnnotData                     html  
    compareAlgs                             html  
    compareBoxplots                         html  
    cv_glmnet_OriginalModel                 html  
    deseq2_norm_rle                         html  
    distinctColors                          html  
    dot-OriginalModel_NoRetraining          html  
    dot-OriginalModel_Retraining            html  
    evaluateOriginalModel                   html  
    knn_OriginalModel                       html  
    lda_OriginalModel                       html  
    mkAssay                                 html  
    plotQuantitative                        html  
    randomForest_OriginalModel              html  
    ref_combat_impute                       html  
    runTBsigProfiler                        html  
    sigAnnotData                            html  
    signatureBoxplot                        html  
    signatureGeneHeatmap                    html  
    signatureHeatmap                        html  
    signatureROCplot                        html  
    signatureROCplot_CI                     html  
    subsetGeneSet                           html  
    svm_OriginalModel                       html  
    tableAUC                                html  
** building package indices
** installing vignettes
** testing if installed package can be loaded from temporary location
** testing if installed package can be loaded from final location
** testing if installed package keeps a record of temporary installation path

install for x64

* installing *source* package 'TBSignatureProfiler' ...
** testing if installed package can be loaded
* MD5 sums
packaged installation of 'TBSignatureProfiler' as TBSignatureProfiler_1.5.14.zip
* DONE (TBSignatureProfiler)