Back to Multiple platform build/check report for BioC 3.14
ABCDEFGHIJKLMNOPQRS[T]UVWXYZ

This page was generated on 2021-10-23 14:07:20 -0400 (Sat, 23 Oct 2021).

BUILD results for TBSignatureProfiler on merida1

To the developers/maintainers of the TBSignatureProfiler package:
- Please allow up to 24 hours (and sometimes 48 hours) for your latest push to git@git.bioconductor.org:packages/TBSignatureProfiler.git to
reflect on this report. See How and When does the builder pull? When will my changes propagate? here for more information.
- Make sure to use the following settings in order to reproduce any error or warning you see on this page.

raw results

Package 1935/2083HostnameOS / ArchINSTALLBUILDCHECKBUILD BIN
TBSignatureProfiler 1.5.14  (landing page)
Aubrey Odom
Snapshot Date: 2021-10-22 14:50:11 -0400 (Fri, 22 Oct 2021)
git_url: https://git.bioconductor.org/packages/TBSignatureProfiler
git_branch: master
git_last_commit: 8fb176f
git_last_commit_date: 2021-09-29 17:23:12 -0400 (Wed, 29 Sep 2021)
nebbiolo2Linux (Ubuntu 20.04.2 LTS) / x86_64  OK    OK    OK  UNNEEDED, same version is already published
riesling1Windows Server 2019 Standard / x64  OK    OK    OK    OK  UNNEEDED, same version is already published
merida1macOS 10.14.6 Mojave / x86_64  OK    OK    OK    OK  UNNEEDED, same version is already published

Summary

Package: TBSignatureProfiler
Version: 1.5.14
Command: /Library/Frameworks/R.framework/Resources/bin/R CMD build --keep-empty-dirs --no-resave-data TBSignatureProfiler
StartedAt: 2021-10-22 23:41:03 -0400 (Fri, 22 Oct 2021)
EndedAt: 2021-10-22 23:42:15 -0400 (Fri, 22 Oct 2021)
EllapsedTime: 72.5 seconds
RetCode: 0
Status:   OK  
PackageFile: TBSignatureProfiler_1.5.14.tar.gz
PackageFileSize: 3.986 MiB

Command output

##############################################################################
##############################################################################
###
### Running command:
###
###   /Library/Frameworks/R.framework/Resources/bin/R CMD build --keep-empty-dirs --no-resave-data TBSignatureProfiler
###
##############################################################################
##############################################################################


* checking for file ‘TBSignatureProfiler/DESCRIPTION’ ... OK
* preparing ‘TBSignatureProfiler’:
* checking DESCRIPTION meta-information ... OK
* installing the package to build vignettes
* creating vignettes ... OK
* checking for LF line-endings in source and make files and shell scripts
* checking for empty or unneeded directories
* building ‘TBSignatureProfiler_1.5.14.tar.gz’