Back to Multiple platform build/check report for BioC 3.13
ABCDEFGHIJKLMNOPQR[S]TUVWXYZ

BUILD report for SynExtend on tokay2

This page was generated on 2021-01-20 12:34:55 -0500 (Wed, 20 Jan 2021).

TO THE DEVELOPERS/MAINTAINERS OF THE SynExtend PACKAGE: Please make sure to use the following settings in order to reproduce any error or warning you see on this page.
Package 1787/1932HostnameOS / ArchINSTALLBUILDCHECKBUILD BIN
SynExtend 1.3.2
Nicholas Cooley
Snapshot Date: 2021-01-19 14:40:23 -0500 (Tue, 19 Jan 2021)
URL: https://git.bioconductor.org/packages/SynExtend
Branch: master
Last Commit: fe12ba7
Last Changed Date: 2020-12-16 14:16:05 -0500 (Wed, 16 Dec 2020)
malbec2 Linux (Ubuntu 20.04.1 LTS) / x86_64  OK  OK  OK UNNEEDED, same version exists in internal repository
tokay2 Windows Server 2012 R2 Standard / x64  OK [ OK ] OK  NA 
riesling1 Windows Server 2019 Standard / x64  OK  OK  OK  OK 
machv2 macOS 10.14.6 Mojave / x86_64  OK  OK  OK  OK UNNEEDED, same version exists in internal repository

Summary

Package: SynExtend
Version: 1.3.2
Command: chmod a+r SynExtend -R && C:\Users\biocbuild\bbs-3.13-bioc\R\bin\R.exe CMD build --keep-empty-dirs --no-resave-data SynExtend
StartedAt: 2021-01-20 01:36:16 -0500 (Wed, 20 Jan 2021)
EndedAt: 2021-01-20 01:38:22 -0500 (Wed, 20 Jan 2021)
EllapsedTime: 125.4 seconds
RetCode: 0
Status:  OK  
PackageFile: SynExtend_1.3.2.tar.gz
PackageFileSize: 1.537 MiB

Command output

##############################################################################
##############################################################################
###
### Running command:
###
###   chmod a+r SynExtend -R && C:\Users\biocbuild\bbs-3.13-bioc\R\bin\R.exe CMD build --keep-empty-dirs --no-resave-data SynExtend
###
##############################################################################
##############################################################################


* checking for file 'SynExtend/DESCRIPTION' ... OK
* preparing 'SynExtend':
* checking DESCRIPTION meta-information ... OK
* installing the package to build vignettes
* creating vignettes ... OK
* checking for LF line-endings in source and make files and shell scripts
* checking for empty or unneeded directories
* looking to see if a 'data/datalist' file should be added
* building 'SynExtend_1.3.2.tar.gz'