Back to Multiple platform build/check report for BioC 3.13
ABCDEFGHIJKLMNOPQR[S]TUVWXYZ

INSTALL report for SynExtend on malbec2

This page was generated on 2021-01-20 12:31:48 -0500 (Wed, 20 Jan 2021).

TO THE DEVELOPERS/MAINTAINERS OF THE SynExtend PACKAGE: Please make sure to use the following settings in order to reproduce any error or warning you see on this page.
Package 1787/1932HostnameOS / ArchINSTALLBUILDCHECKBUILD BIN
SynExtend 1.3.2
Nicholas Cooley
Snapshot Date: 2021-01-19 14:40:23 -0500 (Tue, 19 Jan 2021)
URL: https://git.bioconductor.org/packages/SynExtend
Branch: master
Last Commit: fe12ba7
Last Changed Date: 2020-12-16 14:16:05 -0500 (Wed, 16 Dec 2020)
malbec2 Linux (Ubuntu 20.04.1 LTS) / x86_64 [ OK ] OK  OK UNNEEDED, same version exists in internal repository
tokay2 Windows Server 2012 R2 Standard / x64  OK  OK  OK  NA 
riesling1 Windows Server 2019 Standard / x64  OK  OK  OK  OK 
machv2 macOS 10.14.6 Mojave / x86_64  OK  OK  OK  OK UNNEEDED, same version exists in internal repository

Summary

Package: SynExtend
Version: 1.3.2
Command: /home/biocbuild/bbs-3.13-bioc/R/bin/R CMD INSTALL SynExtend
StartedAt: 2021-01-19 16:16:34 -0500 (Tue, 19 Jan 2021)
EndedAt: 2021-01-19 16:16:50 -0500 (Tue, 19 Jan 2021)
EllapsedTime: 15.4 seconds
RetCode: 0
Status:  OK 

Command output

##############################################################################
##############################################################################
###
### Running command:
###
###   /home/biocbuild/bbs-3.13-bioc/R/bin/R CMD INSTALL SynExtend
###
##############################################################################
##############################################################################


* installing to library ‘/home/biocbuild/bbs-3.13-bioc/R/library’
* installing *source* package ‘SynExtend’ ...
** using staged installation
** R
** data
** inst
** byte-compile and prepare package for lazy loading
** help
*** installing help indices
** building package indices
** installing vignettes
** testing if installed package can be loaded from temporary location
** testing if installed package can be loaded from final location
** testing if installed package keeps a record of temporary installation path
* DONE (SynExtend)