Back to Multiple platform build/check report for BioC 3.13 |
|
This page was generated on 2021-01-20 12:40:47 -0500 (Wed, 20 Jan 2021).
TO THE DEVELOPERS/MAINTAINERS OF THE SynExtend PACKAGE: Please make sure to use the following settings in order to reproduce any error or warning you see on this page. |
Package 1787/1932 | Hostname | OS / Arch | INSTALL | BUILD | CHECK | BUILD BIN | ||||||
SynExtend 1.3.2 Nicholas Cooley
| malbec2 | Linux (Ubuntu 20.04.1 LTS) / x86_64 | OK | OK | OK | ![]() | ||||||
tokay2 | Windows Server 2012 R2 Standard / x64 | OK | OK | OK | NA | |||||||
riesling1 | Windows Server 2019 Standard / x64 | OK | OK | OK | OK | |||||||
machv2 | macOS 10.14.6 Mojave / x86_64 | [ OK ] | OK | OK | OK | ![]() |
Package: SynExtend |
Version: 1.3.2 |
Command: /Library/Frameworks/R.framework/Versions/Current/Resources/bin/R CMD INSTALL SynExtend |
StartedAt: 2021-01-19 16:22:38 -0500 (Tue, 19 Jan 2021) |
EndedAt: 2021-01-19 16:23:07 -0500 (Tue, 19 Jan 2021) |
EllapsedTime: 28.8 seconds |
RetCode: 0 |
Status: OK |
############################################################################## ############################################################################## ### ### Running command: ### ### /Library/Frameworks/R.framework/Versions/Current/Resources/bin/R CMD INSTALL SynExtend ### ############################################################################## ############################################################################## * installing to library ‘/Library/Frameworks/R.framework/Versions/4.1/Resources/library’ * installing *source* package ‘SynExtend’ ... ** using staged installation ** R ** data ** inst ** byte-compile and prepare package for lazy loading ** help *** installing help indices ** building package indices ** installing vignettes ** testing if installed package can be loaded from temporary location ** testing if installed package can be loaded from final location ** testing if installed package keeps a record of temporary installation path * DONE (SynExtend)