Back to Multiple platform build/check report for BioC 3.13
ABCDEFGHIJKLMNOPQR[S]TUVWXYZ

BUILD BIN report for SynExtend on machv2

This page was generated on 2021-01-25 12:44:17 -0500 (Mon, 25 Jan 2021).

TO THE DEVELOPERS/MAINTAINERS OF THE SynExtend PACKAGE: Please make sure to use the following settings in order to reproduce any error or warning you see on this page.
Package 1793/1938HostnameOS / ArchINSTALLBUILDCHECKBUILD BIN
SynExtend 1.3.2
Nicholas Cooley
Snapshot Date: 2021-01-24 14:40:26 -0500 (Sun, 24 Jan 2021)
URL: https://git.bioconductor.org/packages/SynExtend
Branch: master
Last Commit: fe12ba7
Last Changed Date: 2020-12-16 14:16:05 -0500 (Wed, 16 Dec 2020)
malbec2 Linux (Ubuntu 20.04.1 LTS) / x86_64  OK  OK  OK UNNEEDED, same version exists in internal repository
tokay2 Windows Server 2012 R2 Standard / x64  OK  OK  OK  NA 
riesling1 Windows Server 2019 Standard / x64  OK  OK  OK  OK 
machv2 macOS 10.14.6 Mojave / x86_64  OK  OK  OK [ OK ]UNNEEDED, same version exists in internal repository

Summary

Package: SynExtend
Version: 1.3.2
Command: rm -rf SynExtend.buildbin-libdir && mkdir SynExtend.buildbin-libdir && /Users/biocbuild/BBS/utils/build-universal.sh SynExtend_1.3.2.tar.gz /Library/Frameworks/R.framework/Versions/Current/Resources/bin/R SynExtend.buildbin-libdir
StartedAt: 2021-01-25 07:07:54 -0500 (Mon, 25 Jan 2021)
EndedAt: 2021-01-25 07:08:20 -0500 (Mon, 25 Jan 2021)
EllapsedTime: 26.1 seconds
RetCode: 0
Status:  OK 
PackageFile: SynExtend_1.3.2.tgz
PackageFileSize: 1.602 MiB

Command output

##############################################################################
##############################################################################
###
### Running command:
###
###   rm -rf SynExtend.buildbin-libdir && mkdir SynExtend.buildbin-libdir && /Users/biocbuild/BBS/utils/build-universal.sh SynExtend_1.3.2.tar.gz /Library/Frameworks/R.framework/Versions/Current/Resources/bin/R SynExtend.buildbin-libdir
###
##############################################################################
##############################################################################


>>>>>>> 
>>>>>>> INSTALLATION WITH 'R CMD INSTALL --preclean --no-multiarch --library=SynExtend.buildbin-libdir SynExtend_1.3.2.tar.gz'
>>>>>>> 

* installing *source* package ‘SynExtend’ ...
** using staged installation
** R
** data
** inst
** byte-compile and prepare package for lazy loading
** help
*** installing help indices
** building package indices
** installing vignettes
** testing if installed package can be loaded from temporary location
** testing if installed package can be loaded from final location
** testing if installed package keeps a record of temporary installation path
* DONE (SynExtend)